BEGIN:VCALENDAR
VERSION:2.0
PRODID:-//Events - ECPv6.8.3//NONSGML v1.0//EN
CALSCALE:GREGORIAN
METHOD:PUBLISH
X-WR-CALNAME:Events
X-ORIGINAL-URL:https://events.vidaglobalguide.com
X-WR-CALDESC:Events for Events
REFRESH-INTERVAL;VALUE=DURATION:PT1H
X-Robots-Tag:noindex
X-PUBLISHED-TTL:PT1H
BEGIN:VTIMEZONE
TZID:UTC
BEGIN:STANDARD
TZOFFSETFROM:+0000
TZOFFSETTO:+0000
TZNAME:UTC
DTSTART:20260101T000000
END:STANDARD
END:VTIMEZONE
BEGIN:VEVENT
DTSTART;TZID=UTC:20260422T230000
DTEND;TZID=UTC:20260423T060000
DTSTAMP:20260422T014335
CREATED:20260414T112641Z
LAST-MODIFIED:20260414T112641Z
UID:4790-1776898800-1776924000@events.vidaglobalguide.com
SUMMARY:Nervous Records
DESCRIPTION:SPECIAL TICKETS\nTap “Book Here” \nDRINK PROMOS\n3 Waters — 20€\n3 Drinks — 40€\n5 Drinks — 60€\n+34662387555
URL:https://events.vidaglobalguide.com/event/nervous-records/
LOCATION:Club Chinois Ibiza\, Passeig Joan Carles I\, 17\, Ibiza\, Balearic Islands\, Spain\, Passeig Joan Carles I\, 17\, Ibiza\, Ibiza\, Spain
CATEGORIES:Music
ATTACH;FMTTYPE=image/jpeg:https://events.vidaglobalguide.com/wp-content/uploads/sites/3/2026/04/Nervous-Records.jpeg
END:VEVENT
END:VCALENDAR