BEGIN:VCALENDAR
VERSION:2.0
PRODID:-//Events - ECPv6.8.3//NONSGML v1.0//EN
CALSCALE:GREGORIAN
METHOD:PUBLISH
X-WR-CALNAME:Events
X-ORIGINAL-URL:https://events.vidaglobalguide.com
X-WR-CALDESC:Events for Events
REFRESH-INTERVAL;VALUE=DURATION:PT1H
X-Robots-Tag:noindex
X-PUBLISHED-TTL:PT1H
BEGIN:VTIMEZONE
TZID:UTC
BEGIN:STANDARD
TZOFFSETFROM:+0000
TZOFFSETTO:+0000
TZNAME:UTC
DTSTART:20240101T000000
END:STANDARD
END:VTIMEZONE
BEGIN:VEVENT
DTSTART;TZID=UTC:20241102T190000
DTEND;TZID=UTC:20241102T200000
DTSTAMP:20260424T112800
CREATED:20241002T202516Z
LAST-MODIFIED:20241020T104533Z
UID:3015-1730574000-1730577600@events.vidaglobalguide.com
SUMMARY:Sound Journey
DESCRIPTION:Sound Journey at Six Senses  \nby Mika Somoza www.instagram.com/presenciavibracional \nOnly 7 spots. RESERVE YOUR PLACE \nI invite you to immerse yourself in a simple and profound sonic journey with quartz bowls\, metal bowls\, Native American drum and more.\nWe will also receive the message from the Oracle at the end of the session.\nLet’s start this Autumn together\, letting go of what has to go to make space for a new beginning.  \nWelcome!!!
URL:https://events.vidaglobalguide.com/event/sound-journey/
LOCATION:Six senses\, Ibiza\, Spain\, Carrer Camí de sa Torre\, 71\, Ibiza\, Spain
CATEGORIES:Sound Journey
ATTACH;FMTTYPE=image/jpeg:https://events.vidaglobalguide.com/wp-content/uploads/sites/3/2024/10/SoundJourneyNov.jpg
END:VEVENT
BEGIN:VEVENT
DTSTART;TZID=UTC:20241109T180000
DTEND;TZID=UTC:20241109T190000
DTSTAMP:20260424T112800
CREATED:20241106T155714Z
LAST-MODIFIED:20241106T164247Z
UID:3303-1731175200-1731178800@events.vidaglobalguide.com
SUMMARY:NOURISH SOUND BATH
DESCRIPTION:Autumn Sound Bath by sound practitioner Alice Gatto\, opera singer & sound therapist Katy Prado  \nAn immersive Sound Bath with Gongs\, Crystal Bowls & Voice Activation to align body & soul as we transition into winter. Nurture with beautiful healing frequencies played by experienced practitioners.
URL:https://events.vidaglobalguide.com/event/nourish/
LOCATION:Open space\, Santa Gertrudis\, Ibiza\, Spain\, Santa Gertrudis\, Ibiza\, Spain
CATEGORIES:Sound Journey
ATTACH;FMTTYPE=image/jpeg:https://events.vidaglobalguide.com/wp-content/uploads/sites/3/2024/11/Nourish.jpg
END:VEVENT
BEGIN:VEVENT
DTSTART;TZID=UTC:20241115T200000
DTEND;TZID=UTC:20241115T210000
DTSTAMP:20260424T112800
CREATED:20241014T150528Z
LAST-MODIFIED:20241107T221223Z
UID:3172-1731700800-1731704400@events.vidaglobalguide.com
SUMMARY:Meditative Concert
DESCRIPTION:Kora \, Crystal and Tibetan Bowls by Mika Somoza & Federico\nwww.instagram.com/presenciavibracional \nCome enjoy a super relaxing sound trip\, especially for people who need to release stress. \nRESERVE YOUR PLACE HERE  \nThank you! See you at the session!
URL:https://events.vidaglobalguide.com/event/meditative-concert/
LOCATION:Open space\, Santa Gertrudis\, Ibiza\, Spain\, Santa Gertrudis\, Ibiza\, Spain
CATEGORIES:Sound Journey
ATTACH;FMTTYPE=image/jpeg:https://events.vidaglobalguide.com/wp-content/uploads/sites/3/2024/10/meditative-concert.jpg
END:VEVENT
BEGIN:VEVENT
DTSTART;TZID=UTC:20241122T200000
DTEND;TZID=UTC:20241122T210000
DTSTAMP:20260424T112800
CREATED:20241116T105157Z
LAST-MODIFIED:20241116T105226Z
UID:3325-1732305600-1732309200@events.vidaglobalguide.com
SUMMARY:Meditative Concert
DESCRIPTION:Kora with Federico and Crystal and Tibetan Bowls with Mika\nwww.instagram.com/presenciavibracional \nCome enjoy a super relaxing sound trip\, especially for people who need to release stress. \nRESERVE YOUR PLACE HERE  \nThank you! See you at the session!
URL:https://events.vidaglobalguide.com/event/meditative-concert-2/
LOCATION:Open space\, Santa Gertrudis\, Ibiza\, Spain\, Santa Gertrudis\, Ibiza\, Spain
CATEGORIES:Sound Journey
ATTACH;FMTTYPE=image/jpeg:https://events.vidaglobalguide.com/wp-content/uploads/sites/3/2024/11/Meditative-Concert-.jpg
END:VEVENT
BEGIN:VEVENT
DTSTART;TZID=UTC:20241129T200000
DTEND;TZID=UTC:20241129T210000
DTSTAMP:20260424T112800
CREATED:20241124T095737Z
LAST-MODIFIED:20241124T095807Z
UID:3337-1732910400-1732914000@events.vidaglobalguide.com
SUMMARY:Meditative Concert
DESCRIPTION:Kora with Federico and Crystal and Tibetan Bowls with Mika\nwww.instagram.com/presenciavibracional \nCome enjoy a super relaxing sound trip\, especially for people who need to release stress. \nRESERVE YOUR PLACE HERE  \nThank you! See you at the session!
URL:https://events.vidaglobalguide.com/event/meditative-concert-3/
LOCATION:Open Space\, Poligono 25\, 157\, Santa Gertrudis de Fruitera\, Balearic Islands\, Spain\, Open Space\, Poligono 25\, 157\, Santa Gertrudis\, Illes Balears\, Spain
CATEGORIES:Sound Journey
ATTACH;FMTTYPE=image/jpeg:https://events.vidaglobalguide.com/wp-content/uploads/sites/3/2024/11/Meditative-Concert-1-1.jpg
END:VEVENT
END:VCALENDAR