BEGIN:VCALENDAR
VERSION:2.0
PRODID:-//Events - ECPv6.8.3//NONSGML v1.0//EN
CALSCALE:GREGORIAN
METHOD:PUBLISH
X-WR-CALNAME:Events
X-ORIGINAL-URL:https://events.vidaglobalguide.com
X-WR-CALDESC:Events for Events
REFRESH-INTERVAL;VALUE=DURATION:PT1H
X-Robots-Tag:noindex
X-PUBLISHED-TTL:PT1H
BEGIN:VTIMEZONE
TZID:UTC
BEGIN:STANDARD
TZOFFSETFROM:+0000
TZOFFSETTO:+0000
TZNAME:UTC
DTSTART:20240101T000000
END:STANDARD
END:VTIMEZONE
BEGIN:VEVENT
DTSTART;TZID=UTC:20240402T163000
DTEND;TZID=UTC:20240402T180000
DTSTAMP:20260424T232936
CREATED:20240228T132740Z
LAST-MODIFIED:20240228T132740Z
UID:2409-1712075400-1712080800@events.vidaglobalguide.com
SUMMARY:Platica Fabricacion de Herramientas Ecologicas
DESCRIPTION:Platicas dictadas por Antonio Mariano Fuego Moretti Permacultor y bioconstructor\, ingeniero en sistemas de información\, especialista en docencia universitaria\, especialista en ingeniería ambiental\, próximo licenciado en información ambiental.
URL:https://events.vidaglobalguide.com/event/platica-fabricacion-de-herramientas-ecologicas/
LOCATION:Costa Maya\, Mexico\, Mahahual\, Quintana Roo\, Mexico
CATEGORIES:Eco Life & Farm
ATTACH;FMTTYPE=image/jpeg:https://events.vidaglobalguide.com/wp-content/uploads/sites/3/2024/02/Platica-Fabricacion-de-Herramientas-Ecologicas-e1709126856266.jpg
END:VEVENT
END:VCALENDAR