BEGIN:VCALENDAR
VERSION:2.0
PRODID:-//Events - ECPv6.8.3//NONSGML v1.0//EN
CALSCALE:GREGORIAN
METHOD:PUBLISH
X-ORIGINAL-URL:https://events.vidaglobalguide.com
X-WR-CALDESC:Events for Events
REFRESH-INTERVAL;VALUE=DURATION:PT1H
X-Robots-Tag:noindex
X-PUBLISHED-TTL:PT1H
BEGIN:VTIMEZONE
TZID:UTC
BEGIN:STANDARD
TZOFFSETFROM:+0000
TZOFFSETTO:+0000
TZNAME:UTC
DTSTART:20240101T000000
END:STANDARD
END:VTIMEZONE
BEGIN:VEVENT
DTSTART;TZID=UTC:20240815T190000
DTEND;TZID=UTC:20240815T220000
DTSTAMP:20260424T145911
CREATED:20240808T122110Z
LAST-MODIFIED:20240808T135457Z
UID:2780-1723748400-1723759200@events.vidaglobalguide.com
SUMMARY:Womb Activation with loving company of the BLUE LOTUS & The ROSES MEDICINE
DESCRIPTION:Knowledge meeting for women in Ibiza  \nUteral activation with the sacred connection of the Syrian blue lotus\, the magic of the Rose and the perfume of the flowers.\nHe calls us for a session of love / meditation / words / dance / and joy.  \nShare in circle\, go deep from the\nPhysical body to go subtle in the astral body\, dance with Venus in a space of containment and expansion\, because women together in a circle of peace raise our frequency to that of Gaia.  \nWe invite you to resonate with a melody of sirens and whales.  \nTanith and Isis inspire us for this pulse\, transporting from the waters of the Nile and the Red Sea to the Mediterranean an alchemist formula of feminine perfumes\, flower waters\, Stars in our Venusian wombs.  \nFacilitator: Merlina and Elena
URL:https://events.vidaglobalguide.com/event/womb-activation-with-the-loving-company-of-blue-roses-medicine/
LOCATION:Benirras\, Ibiza\, Spain\, Elements\, Cala Benirras\, Ibiza\, Spain
CATEGORIES:Women
ATTACH;FMTTYPE=image/jpeg:https://events.vidaglobalguide.com/wp-content/uploads/sites/3/2024/08/Womb-Activation-1.jpeg
END:VEVENT
END:VCALENDAR