BEGIN:VCALENDAR
VERSION:2.0
PRODID:-//Events - ECPv6.8.3//NONSGML v1.0//EN
CALSCALE:GREGORIAN
METHOD:PUBLISH
X-WR-CALNAME:Events
X-ORIGINAL-URL:https://events.vidaglobalguide.com
X-WR-CALDESC:Events for Events
REFRESH-INTERVAL;VALUE=DURATION:PT1H
X-Robots-Tag:noindex
X-PUBLISHED-TTL:PT1H
BEGIN:VTIMEZONE
TZID:UTC
BEGIN:STANDARD
TZOFFSETFROM:+0000
TZOFFSETTO:+0000
TZNAME:UTC
DTSTART:20240101T000000
END:STANDARD
END:VTIMEZONE
BEGIN:VEVENT
DTSTART;VALUE=DATE:20240408
DTEND;VALUE=DATE:20240412
DTSTAMP:20260423T062637
CREATED:20240214T201713Z
LAST-MODIFIED:20240219T231437Z
UID:1892-1712534400-1712879999@events.vidaglobalguide.com
SUMMARY:En Crudo Italia
DESCRIPTION:¿Puedes poner tu vida y tus negocios en pausa 4 días? \nPara conectarte contigo mismo y conocer a otros humanos en el mismo nivel energético que tú y con dudas existenciales\, preguntas\, dudas y trabajos emocionales muy parecidos a los tuyos. \nEn un retiro dirigido por Diego Dreyfus
URL:https://events.vidaglobalguide.com/event/en-crudo-italia/
LOCATION:Trento\, Italia\, Trento\, Trentino\, Italy
CATEGORIES:Spiritual
ATTACH;FMTTYPE=image/jpeg:https://events.vidaglobalguide.com/wp-content/uploads/sites/3/2024/02/en-crudo-italia.jpeg
END:VEVENT
BEGIN:VEVENT
DTSTART;VALUE=DATE:20240412
DTEND;VALUE=DATE:20240415
DTSTAMP:20260423T062637
CREATED:20240214T205405Z
LAST-MODIFIED:20240219T231554Z
UID:1900-1712880000-1713139199@events.vidaglobalguide.com
SUMMARY:Women's Yoga Retreat
DESCRIPTION:Women’s Yoga Retreat in Spain \nJoin this women retreat by Women Experience for a transformative escape\, where nature\, animals\, and empowering yoga sessions come together. Connect with their supportive women’s community\, where members empower each other and discuss any topic without taboos. Don’t miss out – sign up now for an unforgettable experience!
URL:https://events.vidaglobalguide.com/event/womans-yoga-retreat/
LOCATION:Cataluña\, Spain\, Barcelona\, Cataluña\, Spain
CATEGORIES:Spiritual
ATTACH;FMTTYPE=image/jpeg:https://events.vidaglobalguide.com/wp-content/uploads/sites/3/2024/02/woman-yoga-retreat.jpeg
END:VEVENT
BEGIN:VEVENT
DTSTART;VALUE=DATE:20240426
DTEND;VALUE=DATE:20240429
DTSTAMP:20260423T062637
CREATED:20240223T002255Z
LAST-MODIFIED:20240223T002255Z
UID:2267-1714089600-1714348799@events.vidaglobalguide.com
SUMMARY:Presencia y Sincronicidad
DESCRIPTION:“El retiro Presencia y sincronicidad nace desde el deseo de ofrecerte una experiencia de conexión profunda contigo misma/o y con los demás. Nuestro programa está diseñado para conectar tu subconsciente con los ritmos de la naturaleza y aprender las palabras que surgen espontáneamente desde tu cuerpo\, en lugar de la mente racional\, superando los límites de pensamientos repetitivos y las creencias limitantes.\n¡Sal de la rutina del día a día para liberar tu verdadera esencia y escuchar tu guía interior!\nNo es necesaria ningún tipo de preparación física o mental\, te acompañaremos en varias actividades para que puedas relajarte y disfrutar del ritmo de la naturaleza\, de una comida vegetariana sana y riquísima y de personas animadas por el mismo deseo de vivir una experiencia única y cuidar de su bienestar físico\, emocional y mental.”
URL:https://events.vidaglobalguide.com/event/presencia-y-sincronicidad/
LOCATION:Barcelona\, Spain\, Barcelona\, Cataluña\, Spain
CATEGORIES:Spiritual
ATTACH;FMTTYPE=image/jpeg:https://events.vidaglobalguide.com/wp-content/uploads/sites/3/2024/02/Presencia-y-Sincronicidad.jpg
END:VEVENT
END:VCALENDAR