BEGIN:VCALENDAR
VERSION:2.0
PRODID:-//Events - ECPv6.8.3//NONSGML v1.0//EN
CALSCALE:GREGORIAN
METHOD:PUBLISH
X-ORIGINAL-URL:https://events.vidaglobalguide.com
X-WR-CALDESC:Events for Events
REFRESH-INTERVAL;VALUE=DURATION:PT1H
X-Robots-Tag:noindex
X-PUBLISHED-TTL:PT1H
BEGIN:VTIMEZONE
TZID:UTC
BEGIN:STANDARD
TZOFFSETFROM:+0000
TZOFFSETTO:+0000
TZNAME:UTC
DTSTART:20240101T000000
END:STANDARD
END:VTIMEZONE
BEGIN:VEVENT
DTSTART;VALUE=DATE:20240507
DTEND;VALUE=DATE:20240516
DTSTAMP:20260423T063312
CREATED:20240221T023326Z
LAST-MODIFIED:20240221T023327Z
UID:2115-1715040000-1715817599@events.vidaglobalguide.com
SUMMARY:Viaje Sagrado a Escocia
DESCRIPTION:“En estos 9 días recorreremos la mítica Tierra del antiguo culto a la Gran Madre\, visitando centros ceremoniales\, aperturando y anclando códigos de luz a través del sonido\, cantos ancestrales\, meditaciones y activaciones\, celebrando y honrando los templos cristalinos de Gaia y abrazando con nuestro amor la red Arbórea ancestral\, guardianes y guardianas de los sagrados pórticos Elficos\, Jardines del Edén Hiperbóreo. \nAbriendo nuestro corazón como una sagrada Rosa\,\nelevaremos nuestros cantos para unirnos a la Voz de Gaia y su ser en lo alto\, recordando que somos parte de una misma canción.\nRecordando la esencia de ser cantores y cantoras\nalquimistas del sonido\, como la naturaleza más pura\nde Ser Humanos\, en donde reside la gran labor de armonizar\, frecuenciar y anclar junto a Gaia las melodías de la Nueva Tierra en el Humano Luz. \nA través de nuestros rezos y ofrendas a los seres elementales\nque allí habitan\, nuestros cantos y ritmos del tambor mayor\, se irán activando y equilibrando las frecuencias sonoras de la música viva de la madre tierra\, despertando\nlas melodías de las Magdalas\, la Madre Lyra\, y las lenguas de fuego hebreas\, memorias que yacen en las raíces ancestrales de la zarza ardiente.\nElevamos este rezo hacia nuestra querida\nhermandad élfica\, para comenzar este camino iniciático\ncon la peregrinación\, donde coronaremos el\nportal de Beltane en el Lago Ness\, en común unidad con\nla hermandad de dragones y las hadas de los narcisos\,\ncon la vibración sonora de los reinos Hádico-Élficos\nhacia el útero sagrado Madre de Europa\, Callanish\,\nen conexión con la hermandad boreal arcoíris.”
URL:https://events.vidaglobalguide.com/event/viaje-sagrado-a-escocia/
LOCATION:Scotland\, Scotland\, United Kingdom
CATEGORIES:Spiritual
ATTACH;FMTTYPE=image/jpeg:https://events.vidaglobalguide.com/wp-content/uploads/sites/3/2024/02/scotland.jpeg
END:VEVENT
END:VCALENDAR