BEGIN:VCALENDAR
VERSION:2.0
PRODID:-//Events - ECPv6.8.3//NONSGML v1.0//EN
CALSCALE:GREGORIAN
METHOD:PUBLISH
X-WR-CALNAME:Events
X-ORIGINAL-URL:https://events.vidaglobalguide.com
X-WR-CALDESC:Events for Events
REFRESH-INTERVAL;VALUE=DURATION:PT1H
X-Robots-Tag:noindex
X-PUBLISHED-TTL:PT1H
BEGIN:VTIMEZONE
TZID:UTC
BEGIN:STANDARD
TZOFFSETFROM:+0000
TZOFFSETTO:+0000
TZNAME:UTC
DTSTART:20240101T000000
END:STANDARD
END:VTIMEZONE
BEGIN:VEVENT
DTSTART;VALUE=DATE:20240517
DTEND;VALUE=DATE:20240520
DTSTAMP:20260423T063018
CREATED:20240228T130441Z
LAST-MODIFIED:20240228T131011Z
UID:2392-1715904000-1716163199@events.vidaglobalguide.com
SUMMARY:Re Conecta Retiro
DESCRIPTION:“6º RETIRO SPA PARA EL ALMA. \nGracias a todos vosotros\, realizaré mi 6º retiro Spa para el Alma el próximo 17-18 y 19 de Mayo. \nMás de 14 horas de sanacion\, comida excelente y en un sitio mágico para mi. \nSi quieres recibir info\, comenta RETIRO en comentarios para enviártela.\nPlazas limitadas.”
URL:https://events.vidaglobalguide.com/event/re-conecta-retiro/
LOCATION:Barcelona\, Spain\, Barcelona\, Cataluña\, Spain
CATEGORIES:Spiritual
ATTACH;FMTTYPE=image/jpeg:https://events.vidaglobalguide.com/wp-content/uploads/sites/3/2024/02/Retiro-re-conecta.jpg
END:VEVENT
END:VCALENDAR