BEGIN:VCALENDAR
VERSION:2.0
PRODID:-//Events - ECPv6.8.3//NONSGML v1.0//EN
CALSCALE:GREGORIAN
METHOD:PUBLISH
X-ORIGINAL-URL:https://events.vidaglobalguide.com
X-WR-CALDESC:Events for Events
REFRESH-INTERVAL;VALUE=DURATION:PT1H
X-Robots-Tag:noindex
X-PUBLISHED-TTL:PT1H
BEGIN:VTIMEZONE
TZID:UTC
BEGIN:STANDARD
TZOFFSETFROM:+0000
TZOFFSETTO:+0000
TZNAME:UTC
DTSTART:20240101T000000
END:STANDARD
END:VTIMEZONE
BEGIN:VEVENT
DTSTART;VALUE=DATE:20241012
DTEND;VALUE=DATE:20241014
DTSTAMP:20260422T211019
CREATED:20241002T192510Z
LAST-MODIFIED:20241002T201824Z
UID:3008-1728691200-1728863999@events.vidaglobalguide.com
SUMMARY:Beauty & Energy Rituals
DESCRIPTION:Become conscious of your light\, and shine. An intimate alignment for mind\, body\, and soul harmonious embodiment. \nDaily Workshops or Full 2-days Immersion\nOptional Initiation to Shamanic Healing \nChoose from:\nDaily Workshops\nFull 2-day Retreat \nWhat You’ll Experience:\n– Cultivate a Conscious Self-Image. Embrace your beauty beyond demanding standards.\n– Foster Regenerative Habits. Create daily rituals that restore and energize.\n– Balance Hormones Naturally. Achieve molecular harmony with holistic remedies.\n–  Conscious Nourishment beyond diet. Nourish your physical\, emotional\, mental\, and spiritual bodies.\n– Reverse Aging Naturally. Support your organism vitality and radiance.\n– Organic Skin & Hair Care. Pamper yourself with earth-sourced ingredients.\n– Post-Partum Recovery and Motherhood Support. Nurture your body with specialized care according to your life challenges.\n– Break Free from Pathologies and limiting thoughts. Reclaim your health with compassion and self-love.\n– Experience true love bonds\, by letting go the past\, transcending narcissism\, self-sabotage\, and guilt.\n– Embrace a Regenerative Lifestyle. Live in tune with your inner wisdom.\n– Live in harmony with the rhythms of nature\, honoring your connection with Earth. \nMeet Your Guides:\nLiana Aya is a naturopath\, herbalist\, medicine woman\, nutritionist\, acupunturist\, integrative mentor dedicated to self-care\, healing\, and expansion of consciousness for +15 years in over 30 countries. \nTomas Buzek will help you tap into some of Earth sacred mysteries. With over 20 years of experience of working with people\, Earth energies and elementary beings\, his work is rooted in druidic and shamanic wisdom.
URL:https://events.vidaglobalguide.com/event/beauty-energy-rituals/
LOCATION:Ibiza\, Spain\, Ibiza\, Ibiza\, Spain
CATEGORIES:Spiritual
ATTACH;FMTTYPE=image/jpeg:https://events.vidaglobalguide.com/wp-content/uploads/sites/3/2024/10/beuty.jpg
END:VEVENT
END:VCALENDAR