BEGIN:VCALENDAR
VERSION:2.0
PRODID:-//Events - ECPv6.8.3//NONSGML v1.0//EN
CALSCALE:GREGORIAN
METHOD:PUBLISH
X-ORIGINAL-URL:https://events.vidaglobalguide.com
X-WR-CALDESC:Events for Events
REFRESH-INTERVAL;VALUE=DURATION:PT1H
X-Robots-Tag:noindex
X-PUBLISHED-TTL:PT1H
BEGIN:VTIMEZONE
TZID:UTC
BEGIN:STANDARD
TZOFFSETFROM:+0000
TZOFFSETTO:+0000
TZNAME:UTC
DTSTART:20240101T000000
END:STANDARD
END:VTIMEZONE
BEGIN:VEVENT
DTSTART;TZID=UTC:20241022T150000
DTEND;TZID=UTC:20241029T150000
DTSTAMP:20260422T210922
CREATED:20240809T154121Z
LAST-MODIFIED:20240809T175346Z
UID:2790-1729609200-1730214000@events.vidaglobalguide.com
SUMMARY:REPROGRAM YOUR MIND AND BODY - SUPERA JEWELS
DESCRIPTION:The Retreat will take place at Quinta Marugo from 22 October till 29 October 2024. The total capacity of the retreat will be 14 guests distributed in a total of 7 rooms\, all with en-suite bathroom. The main goal of the retreat is to dedicate the whole week to explore different methods and tools to reprogram consciously your mind and your body\, in ways that promote wellbeing and serve your personal goals.\nAlongside a wide range of these tools from neuromodulation biohacking devices to breathwork\, from nutrition to yoga\, from kundalini activation to dream interpretation\, we will also explore how jewellery combined with intention setting can be used for such a scope and how the use of crystals can have measurable effects on your biology and consciousness.
URL:https://events.vidaglobalguide.com/event/reprogram-your-mind-and-body-supera-jewels/
LOCATION:Monte Portela Nova\, Serpa\, Portugal\, Quinta Marugo Retreats Rua de São Brás s/n\, Serpa\, Portugal
CATEGORIES:Spiritual
ATTACH;FMTTYPE=image/jpeg:https://events.vidaglobalguide.com/wp-content/uploads/sites/3/2024/08/retreat-portugal-joyas-2.jpeg
END:VEVENT
END:VCALENDAR