BEGIN:VCALENDAR
VERSION:2.0
PRODID:-//Events - ECPv6.8.3//NONSGML v1.0//EN
CALSCALE:GREGORIAN
METHOD:PUBLISH
X-WR-CALNAME:Events
X-ORIGINAL-URL:https://events.vidaglobalguide.com
X-WR-CALDESC:Events for Events
REFRESH-INTERVAL;VALUE=DURATION:PT1H
X-Robots-Tag:noindex
X-PUBLISHED-TTL:PT1H
BEGIN:VTIMEZONE
TZID:UTC
BEGIN:STANDARD
TZOFFSETFROM:+0000
TZOFFSETTO:+0000
TZNAME:UTC
DTSTART:20240101T000000
END:STANDARD
END:VTIMEZONE
BEGIN:VEVENT
DTSTART;VALUE=DATE:20241027
DTEND;VALUE=DATE:20241104
DTSTAMP:20260422T194342
CREATED:20241002T203552Z
LAST-MODIFIED:20241002T203552Z
UID:3023-1729987200-1730678399@events.vidaglobalguide.com
SUMMARY:Sacred Mayan Wisdom Tulum Retreat
DESCRIPTION:Celebrate the Day of the Dead festivity in a transformative self•awareness journey into the ancient teachings of the Mayan\, the sacred nature of Sian Ka’an\, and the exotics of Mexico. \n– Evolutionary\, creative\, and therapeutic dynamics to self-discovery \n– Accompaniment in the evolutionary process by expert facilitators\, and integrative mentors with +10 years each.\n–  Ancient therapies used by mankind for thousands of years from all around the world: Amazon\, Africa\, Asia. Europe…\n–  Breathwork\, Family Constellations\, Meditations\, Journaling\, Sound Healing\, Live Music…\n–  Experience the cenotes and temazcal healing energies.\n–  Somatic Therapies and body movement.\n–  A day at Tulum and celebration of Día de los Muertos (transport and food included).\n–  A day with guided tour of the Mayan ruins of Chichen Itzá\, on one of the most characteristic points of the Caribbean sea (transport and food included).\n–  Tour of the Sian Ka’an nature reserve\, a UNESCU World Heritage Site. Boat ride in the main channel near the coral reef to meet crocodiles\, turtles\, dolphins (transport and food included).\n–  Curated accommodation and conscious nourishment\n–  Optional Dynamics like Reiki\, Acupuncture\, Astral Surgery\, Bach Flowers\, Biomagnetism\, …
URL:https://events.vidaglobalguide.com/event/sacred-mayan-wisdom-tulum-retreat/
LOCATION:Tulum\, Mexico\, Tulum\, Mexico
CATEGORIES:Spiritual
ATTACH;FMTTYPE=image/jpeg:https://events.vidaglobalguide.com/wp-content/uploads/sites/3/2024/10/Sacred-Mayan-Wisdom-Tulum-Retreat.jpg
END:VEVENT
END:VCALENDAR